BEGIN:VCALENDAR
VERSION:2.0
PRODID:-//Sovereign Heart Coaching - ECPv6.15.4//NONSGML v1.0//EN
CALSCALE:GREGORIAN
METHOD:PUBLISH
X-ORIGINAL-URL:https://sovereignheartcoaching.com
X-WR-CALDESC:Events for Sovereign Heart Coaching
REFRESH-INTERVAL;VALUE=DURATION:PT1H
X-Robots-Tag:noindex
X-PUBLISHED-TTL:PT1H
BEGIN:VTIMEZONE
TZID:America/New_York
BEGIN:DAYLIGHT
TZOFFSETFROM:-0500
TZOFFSETTO:-0400
TZNAME:EDT
DTSTART:20230312T070000
END:DAYLIGHT
BEGIN:STANDARD
TZOFFSETFROM:-0400
TZOFFSETTO:-0500
TZNAME:EST
DTSTART:20231105T060000
END:STANDARD
END:VTIMEZONE
BEGIN:VEVENT
DTSTART;TZID=America/New_York:20231227T150000
DTEND;TZID=America/New_York:20231227T160000
DTSTAMP:20260422T082103
CREATED:20231109T143558Z
LAST-MODIFIED:20231109T143558Z
UID:239-1703689200-1703692800@sovereignheartcoaching.com
SUMMARY:Inner Alchemy
DESCRIPTION:Where: Zoom\nTicket price: FREE\nClick here to save your seat!\nInner Alchemy \n\n\n\n\n\nFull transformation at your fingertips. \nAre you a woman that is sooooo ready to step into her sovereignty and power? Do you crave heartfelt community to support this momentous shift? 2024 is your year! \nThis free session will review my life changing 21-week women’s program\, Inner Alchemy. Learn all about it\, ask questions\, and grab a spot before they are full! \n\n\n\n\n\nRegister for FREE
URL:https://sovereignheartcoaching.com/event/inner-alchemy/
ATTACH;FMTTYPE=image/png:https://sovereignheartcoaching.com/wp-content/uploads/2023/11/7.png
END:VEVENT
BEGIN:VEVENT
DTSTART;TZID=America/New_York:20231215T100000
DTEND;TZID=America/New_York:20231215T110000
DTSTAMP:20260422T082103
CREATED:20231109T143316Z
LAST-MODIFIED:20231109T143316Z
UID:237-1702634400-1702638000@sovereignheartcoaching.com
SUMMARY:Upleveling your Gratitude Practice
DESCRIPTION:Where: Zoom\nTicket price: FREE\nClick here to save your seat!\nUpleveling your Gratitude Practice \nThe holiday season is a good time to reflect on your gratitude practice. Do you have one? Do you practice it consistently? Has it gone stale? \nJoin me for this free workshop on creating a gratitude practice you feel inspired by\, that will support you in being who you want to be during the holidays. \nRegister for FREE
URL:https://sovereignheartcoaching.com/event/upleveling-your-gratitude-practice/
ATTACH;FMTTYPE=image/png:https://sovereignheartcoaching.com/wp-content/uploads/2023/11/6.png
END:VEVENT
BEGIN:VEVENT
DTSTART;TZID=America/New_York:20231211T160000
DTEND;TZID=America/New_York:20231211T170000
DTSTAMP:20260422T082103
CREATED:20231109T142811Z
LAST-MODIFIED:20231109T143143Z
UID:236-1702310400-1702314000@sovereignheartcoaching.com
SUMMARY:Coming back to the heart for the holidays
DESCRIPTION:Where: Zoom\nTicket price: FREE\nClick here to save your seat!\nComing back to the heart for the holidays \n\n\n\n\n\nDo you find yourself running around like a chicken with her head cut off around the holiday season? Do you do a lot of thinking and not a lot of feeling? Would you like to sink in to a more heartfelt approach to the holidays\, getting present with your loved ones and practicing gratitude? \nJoin this free workshop to learn some simple but powerful practices to get back into your heart for the holidays. \n\n\n\n\n\nRegister for FREE
URL:https://sovereignheartcoaching.com/event/coming-back-to-the-heart-for-the-holidays/
ATTACH;FMTTYPE=image/png:https://sovereignheartcoaching.com/wp-content/uploads/2023/11/5.png
END:VEVENT
BEGIN:VEVENT
DTSTART;TZID=America/New_York:20231203T100000
DTEND;TZID=America/New_York:20231203T110000
DTSTAMP:20260422T082103
CREATED:20231109T142429Z
LAST-MODIFIED:20231109T142429Z
UID:230-1701597600-1701601200@sovereignheartcoaching.com
SUMMARY:What is Sovereignty?
DESCRIPTION:Where: Zoom\nTicket price: FREE\nClick here to save your seat!\nWhat is Sovereignty? \nWhat does sovereignty really mean? What would living a sovereign life look like? What does it mean to cultivate sovereignty at a BEING level. \nWe’ll explore all of these questions in this free workshop\, as well as learn some simple sovereignty practices \nRegister for FREE
URL:https://sovereignheartcoaching.com/event/what-is-sovereignty/
ATTACH;FMTTYPE=image/png:https://sovereignheartcoaching.com/wp-content/uploads/2023/11/4.png
END:VEVENT
BEGIN:VEVENT
DTSTART;TZID=America/New_York:20231127T100000
DTEND;TZID=America/New_York:20231127T110000
DTSTAMP:20260422T082103
CREATED:20231108T125652Z
LAST-MODIFIED:20231108T125652Z
UID:228-1701079200-1701082800@sovereignheartcoaching.com
SUMMARY:Reset your diet before Christmas!- Eating in alignment with Nature
DESCRIPTION:Where: Zoom\nTicket price: FREE\nClick here to save your seat!\nReset your diet before Christmas!- Eating in alignment with Nature \nWe all just feasted for Thanksgiving and Christmas is right around the corner! \nJoin this free workshop on taking care of your body this holiday season. By eating in alignment with nature\, we can clean up our diets without depriving ourselves. \nFollowing the simple strategies shared in this workshop will leave you feeling clean\, energetic and empowered. \nRegister for FREE
URL:https://sovereignheartcoaching.com/event/reset-your-diet-before-christmas-eating-in-alignment-with-nature/
ATTACH;FMTTYPE=image/png:https://sovereignheartcoaching.com/wp-content/uploads/2023/11/3.png
END:VEVENT
BEGIN:VEVENT
DTSTART;TZID=America/New_York:20231119T100000
DTEND;TZID=America/New_York:20231119T110000
DTSTAMP:20260422T082103
CREATED:20231108T125150Z
LAST-MODIFIED:20231108T125802Z
UID:226-1700388000-1700391600@sovereignheartcoaching.com
SUMMARY:Practice healthy boundaries with family during this holiday season!
DESCRIPTION:Where: Zoom\nTicket price: FREE\nClick here to save your seat!\nPractice healthy boundaries with family during this holiday season! \nJoin this free workshop to learn what it means to have healthy boundaries\, and then simple practices and tools to be at your best when with friends and family over the holidays. \nThe energy of family almost always wants to suck us back into old dysfunctional patterns! But with intentionality\, you can show up the way you desire to\, in your wholeness and integrity. \nJoin me to learn how! \nRegister for FREE
URL:https://sovereignheartcoaching.com/event/practice-healthy-boundaries-with-family-during-this-holiday-season/
ATTACH;FMTTYPE=image/png:https://sovereignheartcoaching.com/wp-content/uploads/2023/11/2.png
END:VEVENT
BEGIN:VEVENT
DTSTART;TZID=America/New_York:20231112T100000
DTEND;TZID=America/New_York:20231112T110000
DTSTAMP:20260422T082103
CREATED:20231108T124020Z
LAST-MODIFIED:20231108T124107Z
UID:224-1699783200-1699786800@sovereignheartcoaching.com
SUMMARY:One simple step to stay healthy during the holidays
DESCRIPTION:Where: Zoom\nTicket price: FREE\nClick here to save your seat!\nOne simple step to stay healthy during the holidays \nJoin this workshop to learn about simple ways to be truly hydrated. \nWe all know hydration is important for our immune system\, detoxing\, and staying generally healthy\, but many of us don’t know how to truly hydrate. Join me in this free workshop to learn about the myths of staying hydrated and simple yet effective ways to get your cells hydrated and happy! \nThis will help you stay well and feel vibrant this holiday season! \nRegister for FREE
URL:https://sovereignheartcoaching.com/event/one-simple-step-to-stay-healthy-during-the-holidays/
ATTACH;FMTTYPE=image/png:https://sovereignheartcoaching.com/wp-content/uploads/2023/11/1.png
END:VEVENT
BEGIN:VEVENT
DTSTART;TZID=America/New_York:20231101T130000
DTEND;TZID=America/New_York:20231101T163000
DTSTAMP:20260422T082103
CREATED:20231012T143633Z
LAST-MODIFIED:20231024T193433Z
UID:210-1698843600-1698856200@sovereignheartcoaching.com
SUMMARY:November Workshop - Creating Your Sacred Morning Ritual
DESCRIPTION:Where: Zoom\nTicket price: $44\nClick here to save your seat!\nCreating a potent morning ritual will change your life! \nHow you shape your morning sets the tone for your entire day\, which then ripples into your week and year. \nWhat if you were intentional about your morning\, creating a ritual that cleared your mind\, enhanced your emotional state\, and readied your body for a joyous day? \nJoin my half-day workshop\, and I will guide you through powerful components of your morning ritual\, how to bring sacredness to morning routine\, and how to stick with it. \nYou will leave the workshop having created a juicy sacred morning ritual and you will be excited to begin! \nThis workshop is designed to help you establish a sacred morning ritual that aligns with your divine purpose. Here’s what we’ll cover: \n\nThe purpose of creating a sacred morning ritual: My calling as a coach is to create space for others to step into their full divine potential. Creating and maintaining a sacred morning ritual is a HUGE step towards living your divine purpose every day.\nComponents for your morning ritual: From meditation to movement\, we’ll explore different practices that can be incorporated into your routine to make it aligned for you.\nPutting it all together: I’ll walk you through how to create flow in your morning ritual and you’ll get prepared to get started\nMaking it sacred: To create a sacred ritual\, we must establish an environment of reverence and commitment.\nFollowing through: We’ll discuss what kind of support you need to ensure that your morning ritual becomes a habit that you love and can’t live without!\n\nJoin us and start your journey towards a more fulfilling life! \nClick here to save your seat!
URL:https://sovereignheartcoaching.com/event/october-workshop-creating-your-sacred-morning-ritual/
LOCATION:Zoom
ATTACH;FMTTYPE=image/png:https://sovereignheartcoaching.com/wp-content/uploads/2023/10/1-1.png
END:VEVENT
END:VCALENDAR